Package: rifiComparative Version: 1.4.0 Command: /home/biocbuild/bbs-3.19-bioc/R/bin/R CMD INSTALL rifiComparative StartedAt: 2024-10-16 16:25:53 -0400 (Wed, 16 Oct 2024) EndedAt: 2024-10-16 16:26:25 -0400 (Wed, 16 Oct 2024) EllapsedTime: 32.2 seconds RetCode: 0 Status: OK