Package: rifiComparative Version: 1.4.0 Command: rm -rf rifiComparative.buildbin-libdir && mkdir rifiComparative.buildbin-libdir && /Users/biocbuild/BBS/utils/build-universal.sh rifiComparative_1.4.0.tar.gz /Library/Frameworks/R.framework/Resources/bin/R rifiComparative.buildbin-libdir StartedAt: 2024-06-10 00:35:38 -0400 (Mon, 10 Jun 2024) EndedAt: 2024-06-10 00:36:26 -0400 (Mon, 10 Jun 2024) EllapsedTime: 47.6 seconds RetCode: 0 Status: OK PackageFile: rifiComparative_1.4.0.tgz PackageFileSize: 2.432 MiB