Package: rifiComparative Version: 1.4.0 Command: rm -rf rifiComparative.buildbin-libdir && mkdir rifiComparative.buildbin-libdir && /Users/biocbuild/BBS/utils/build-universal.sh rifiComparative_1.4.0.tar.gz /Library/Frameworks/R.framework/Resources/bin/R rifiComparative.buildbin-libdir StartedAt: 2024-06-11 12:51:20 -0400 (Tue, 11 Jun 2024) EndedAt: 2024-06-11 12:52:29 -0400 (Tue, 11 Jun 2024) EllapsedTime: 68.8 seconds RetCode: 0 Status: OK PackageFile: rifiComparative_1.4.0.tgz PackageFileSize: 2.433 MiB