Package: quantiseqr Version: 1.12.0 Command: /Library/Frameworks/R.framework/Resources/bin/R CMD build --keep-empty-dirs --no-resave-data quantiseqr StartedAt: 2024-10-17 06:56:56 -0400 (Thu, 17 Oct 2024) EndedAt: 2024-10-17 06:58:22 -0400 (Thu, 17 Oct 2024) EllapsedTime: 85.4 seconds RetCode: 0 Status: OK PackageFile: quantiseqr_1.12.0.tar.gz PackageFileSize: 3.654 MiB