Package: pwOmics Version: 1.36.0 Maintainer: Torsten Schoeps MaintainerEmail: torsten.schoeps at bioinf.med.uni-goettingen.de git_url: https://git.bioconductor.org/packages/pwOmics git_branch: RELEASE_3_19 git_last_commit: 24142f3 git_last_commit_date: 2024-04-30 10:43:41 -0400 (Tue, 30 Apr 2024)