Package: protGear Version: 1.8.0 Command: rm -rf protGear.buildbin-libdir && mkdir protGear.buildbin-libdir && /Users/biocbuild/BBS/utils/build-universal.sh protGear_1.8.0.tar.gz /Library/Frameworks/R.framework/Resources/bin/R protGear.buildbin-libdir StartedAt: 2024-06-11 12:36:59 -0400 (Tue, 11 Jun 2024) EndedAt: 2024-06-11 12:37:52 -0400 (Tue, 11 Jun 2024) EllapsedTime: 52.9 seconds RetCode: 0 Status: OK PackageFile: protGear_1.8.0.tgz PackageFileSize: 3.934 MiB