Package: procoil Version: 2.32.0 Command: /home/biocbuild/bbs-3.19-bioc/R/bin/R CMD build --keep-empty-dirs --no-resave-data procoil StartedAt: 2024-10-16 20:12:19 -0400 (Wed, 16 Oct 2024) EndedAt: 2024-10-16 20:12:55 -0400 (Wed, 16 Oct 2024) EllapsedTime: 36.1 seconds RetCode: 0 Status: OK PackageFile: procoil_2.32.0.tar.gz PackageFileSize: 1.26 MiB