Package: preciseTAD Version: 1.14.0 Command: E:\biocbuild\bbs-3.19-bioc\R\bin\R.exe CMD INSTALL preciseTAD StartedAt: 2024-10-16 17:07:45 -0400 (Wed, 16 Oct 2024) EndedAt: 2024-10-16 17:08:42 -0400 (Wed, 16 Oct 2024) EllapsedTime: 56.9 seconds RetCode: 0 Status: OK