Package: preciseTAD Version: 1.14.0 Command: rm -rf preciseTAD.buildbin-libdir && mkdir preciseTAD.buildbin-libdir && /Users/biocbuild/BBS/utils/build-universal.sh preciseTAD_1.14.0.tar.gz /Library/Frameworks/R.framework/Resources/bin/R preciseTAD.buildbin-libdir StartedAt: 2024-10-17 16:52:00 -0400 (Thu, 17 Oct 2024) EndedAt: 2024-10-17 16:53:55 -0400 (Thu, 17 Oct 2024) EllapsedTime: 115.1 seconds RetCode: 0 Status: OK PackageFile: preciseTAD_1.14.0.tgz PackageFileSize: 4.803 MiB