Package: plotGrouper Version: 1.22.0 Command: /home/biocbuild/R/R-beta-2024-04-15_r86425/bin/R CMD check --install=check:plotGrouper.install-out.txt --library=/home/biocbuild/R/R-beta-2024-04-15_r86425/site-library --no-vignettes --timings plotGrouper_1.22.0.tar.gz StartedAt: 2024-05-09 10:36:27 -0000 (Thu, 09 May 2024) EndedAt: 2024-05-09 10:37:27 -0000 (Thu, 09 May 2024) EllapsedTime: 60.1 seconds RetCode: 0 Status: OK CheckDir: plotGrouper.Rcheck Warnings: 0