Package: pipeFrame Version: 1.20.0 Command: rm -rf pipeFrame.buildbin-libdir && mkdir pipeFrame.buildbin-libdir && /Users/biocbuild/BBS/utils/build-universal.sh pipeFrame_1.20.0.tar.gz /Library/Frameworks/R.framework/Resources/bin/R pipeFrame.buildbin-libdir StartedAt: 2024-10-17 16:50:38 -0400 (Thu, 17 Oct 2024) EndedAt: 2024-10-17 16:52:01 -0400 (Thu, 17 Oct 2024) EllapsedTime: 82.9 seconds RetCode: 0 Status: OK PackageFile: pipeFrame_1.20.0.tgz PackageFileSize: 1.075 MiB