Package: phenoTest Version: 1.52.0 Command: /home/biocbuild/R/R-beta-2024-04-15_r86425/bin/R CMD build --keep-empty-dirs --no-resave-data phenoTest StartedAt: 2024-05-09 02:29:43 -0000 (Thu, 09 May 2024) EndedAt: 2024-05-09 02:30:56 -0000 (Thu, 09 May 2024) EllapsedTime: 72.1 seconds RetCode: 0 Status: OK PackageFile: phenoTest_1.52.0.tar.gz PackageFileSize: 1.265 MiB