| Back to Multiple platform build/check report for BioC 3.19: simplified long |
|
This page was generated on 2024-10-18 20:38 -0400 (Fri, 18 Oct 2024).
| Hostname | OS | Arch (*) | R version | Installed pkgs |
|---|---|---|---|---|
| nebbiolo1 | Linux (Ubuntu 22.04.3 LTS) | x86_64 | 4.4.1 (2024-06-14) -- "Race for Your Life" | 4763 |
| palomino7 | Windows Server 2022 Datacenter | x64 | 4.4.1 (2024-06-14 ucrt) -- "Race for Your Life" | 4500 |
| merida1 | macOS 12.7.5 Monterey | x86_64 | 4.4.1 (2024-06-14) -- "Race for Your Life" | 4530 |
| kjohnson1 | macOS 13.6.6 Ventura | arm64 | 4.4.1 (2024-06-14) -- "Race for Your Life" | 4480 |
| Click on any hostname to see more info about the system (e.g. compilers) (*) as reported by 'uname -p', except on Windows and Mac OS X | ||||
| Package 1536/2300 | Hostname | OS / Arch | INSTALL | BUILD | CHECK | BUILD BIN | ||||||||
| peakPantheR 1.18.0 (landing page) Arnaud Wolfer
| nebbiolo1 | Linux (Ubuntu 22.04.3 LTS) / x86_64 | OK | OK | OK | |||||||||
| palomino7 | Windows Server 2022 Datacenter / x64 | OK | OK | OK | OK | |||||||||
| merida1 | macOS 12.7.5 Monterey / x86_64 | OK | ERROR | skipped | skipped | |||||||||
| kjohnson1 | macOS 13.6.6 Ventura / arm64 | OK | ERROR | skipped | skipped | |||||||||
|
To the developers/maintainers of the peakPantheR package: - Allow up to 24 hours (and sometimes 48 hours) for your latest push to git@git.bioconductor.org:packages/peakPantheR.git to reflect on this report. See Troubleshooting Build Report for more information. - Use the following Renviron settings to reproduce errors and warnings. - If 'R CMD check' started to fail recently on the Linux builder(s) over a missing dependency, add the missing dependency to 'Suggests:' in your DESCRIPTION file. See Renviron.bioc for more information. |
| Package: peakPantheR |
| Version: 1.18.0 |
| Command: /home/biocbuild/bbs-3.19-bioc/R/bin/R CMD check --install=check:peakPantheR.install-out.txt --library=/home/biocbuild/bbs-3.19-bioc/R/site-library --timings peakPantheR_1.18.0.tar.gz |
| StartedAt: 2024-10-17 03:40:13 -0400 (Thu, 17 Oct 2024) |
| EndedAt: 2024-10-17 04:01:25 -0400 (Thu, 17 Oct 2024) |
| EllapsedTime: 1272.0 seconds |
| RetCode: 0 |
| Status: OK |
| CheckDir: peakPantheR.Rcheck |
| Warnings: 0 |
##############################################################################
##############################################################################
###
### Running command:
###
### /home/biocbuild/bbs-3.19-bioc/R/bin/R CMD check --install=check:peakPantheR.install-out.txt --library=/home/biocbuild/bbs-3.19-bioc/R/site-library --timings peakPantheR_1.18.0.tar.gz
###
##############################################################################
##############################################################################
* using log directory ‘/home/biocbuild/bbs-3.19-bioc/meat/peakPantheR.Rcheck’
* using R version 4.4.1 (2024-06-14)
* using platform: x86_64-pc-linux-gnu
* R was compiled by
gcc (Ubuntu 11.4.0-1ubuntu1~22.04) 11.4.0
GNU Fortran (Ubuntu 11.4.0-1ubuntu1~22.04) 11.4.0
* running under: Ubuntu 22.04.5 LTS
* using session charset: UTF-8
* checking for file ‘peakPantheR/DESCRIPTION’ ... OK
* this is package ‘peakPantheR’ version ‘1.18.0’
* package encoding: UTF-8
* checking package namespace information ... OK
* checking package dependencies ... OK
* checking if this is a source package ... OK
* checking if there is a namespace ... OK
* checking for hidden files and directories ... OK
* checking for portable file names ... OK
* checking for sufficient/correct file permissions ... OK
* checking whether package ‘peakPantheR’ can be installed ... OK
* checking installed package size ... OK
* checking package directory ... OK
* checking ‘build’ directory ... OK
* checking DESCRIPTION meta-information ... OK
* checking top-level files ... OK
* checking for left-over files ... OK
* checking index information ... OK
* checking package subdirectories ... OK
* checking code files for non-ASCII characters ... OK
* checking R files for syntax errors ... OK
* checking whether the package can be loaded ... OK
* checking whether the package can be loaded with stated dependencies ... OK
* checking whether the package can be unloaded cleanly ... OK
* checking whether the namespace can be loaded with stated dependencies ... OK
* checking whether the namespace can be unloaded cleanly ... OK
* checking loading without being on the library search path ... OK
* checking whether startup messages can be suppressed ... OK
* checking dependencies in R code ... OK
* checking S3 generic/method consistency ... OK
* checking replacement functions ... OK
* checking foreign function calls ... OK
* checking R code for possible problems ... OK
* checking Rd files ... OK
* checking Rd metadata ... OK
* checking Rd cross-references ... OK
* checking for missing documentation entries ... OK
* checking for code/documentation mismatches ... OK
* checking Rd \usage sections ... OK
* checking Rd contents ... OK
* checking for unstated dependencies in examples ... OK
* checking files in ‘vignettes’ ... OK
* checking examples ... OK
Examples with CPU (user + system) or elapsed time > 5s
user system elapsed
peakPantheR_ROIStatistics 19.377 0.356 19.738
peakPantheR_parallelAnnotation 14.180 0.207 14.388
outputAnnotationDiagnostic-peakPantheRAnnotation-method 13.686 0.280 13.989
outputAnnotationResult-peakPantheRAnnotation-method 13.360 0.276 13.637
EICs-peakPantheRAnnotation-method 11.236 0.688 11.943
retentionTimeCorrection-peakPantheRAnnotation-method 9.320 0.099 9.421
* checking for unstated dependencies in ‘tests’ ... OK
* checking tests ...
Running ‘testthat.R’
OK
* checking for unstated dependencies in vignettes ... OK
* checking package vignettes ... OK
* checking re-building of vignette outputs ... OK
* checking PDF version of manual ... OK
* DONE
Status: OK
peakPantheR.Rcheck/00install.out
############################################################################## ############################################################################## ### ### Running command: ### ### /home/biocbuild/bbs-3.19-bioc/R/bin/R CMD INSTALL peakPantheR ### ############################################################################## ############################################################################## * installing to library ‘/home/biocbuild/bbs-3.19-bioc/R/site-library’ * installing *source* package ‘peakPantheR’ ... ** using staged installation ** R ** inst ** byte-compile and prepare package for lazy loading ** help *** installing help indices *** copying figures ** building package indices ** installing vignettes ** testing if installed package can be loaded from temporary location ** testing if installed package can be loaded from final location ** testing if installed package keeps a record of temporary installation path * DONE (peakPantheR)
peakPantheR.Rcheck/tests/testthat.Rout
R version 4.4.1 (2024-06-14) -- "Race for Your Life"
Copyright (C) 2024 The R Foundation for Statistical Computing
Platform: x86_64-pc-linux-gnu
R is free software and comes with ABSOLUTELY NO WARRANTY.
You are welcome to redistribute it under certain conditions.
Type 'license()' or 'licence()' for distribution details.
R is a collaborative project with many contributors.
Type 'contributors()' for more information and
'citation()' on how to cite R or R packages in publications.
Type 'demo()' for some demos, 'help()' for on-line help, or
'help.start()' for an HTML browser interface to help.
Type 'q()' to quit R.
> library(testthat)
> library(peakPantheR)
This is peakPantheR version 1.18.0
>
> test_check("peakPantheR")
[ FAIL 0 | WARN 0 | SKIP 0 | PASS 1478 ]
Warning messages:
1: In .Internal(gc(verbose, reset, full)) :
closing unused connection 10 (/tmp/Rtmp2jymOz/notValidXML.mzML)
2: In .Internal(gc(verbose, reset, full)) :
closing unused connection 9 (/tmp/Rtmp2jymOz/notValidXML.mzML)
3: In .Internal(gc(verbose, reset, full)) :
closing unused connection 8 (/tmp/Rtmp2jymOz/notValidXML.mzML)
4: In .Internal(gc(verbose, reset, full)) :
closing unused connection 7 (/tmp/Rtmp2jymOz/notValidXML.mzML)
5: In .Internal(gc(verbose, reset, full)) :
closing unused connection 6 (/home/biocbuild/bbs-3.19-bioc/R/site-library/peakPantheR/extdata/test_fakemzML.mzML)
6: In .Internal(gc(verbose, reset, full)) :
closing unused connection 5 (/home/biocbuild/bbs-3.19-bioc/R/site-library/peakPantheR/extdata/test_fakemzML.mzML)
>
> proc.time()
user system elapsed
703.035 13.742 977.837
peakPantheR.Rcheck/peakPantheR-Ex.timings
| name | user | system | elapsed | |
| EICs-peakPantheRAnnotation-method | 11.236 | 0.688 | 11.943 | |
| FIR-peakPantheRAnnotation-method | 0.054 | 0.000 | 0.054 | |
| ROI-peakPantheRAnnotation-method | 0.047 | 0.000 | 0.048 | |
| TIC-peakPantheRAnnotation-method | 0.039 | 0.008 | 0.047 | |
| acquisitionTime-peakPantheRAnnotation-method | 0.050 | 0.000 | 0.049 | |
| annotationDiagnosticPlots-peakPantheRAnnotation-method | 0.042 | 0.004 | 0.045 | |
| annotationParamsDiagnostic-peakPantheRAnnotation-method | 0.043 | 0.000 | 0.042 | |
| annotationTable-peakPantheRAnnotation-method | 0.042 | 0.004 | 0.046 | |
| annotation_diagnostic_multiplot_UI_helper | 0.088 | 0.040 | 0.129 | |
| annotation_fit_summary_UI_helper | 0.002 | 0.006 | 0.009 | |
| annotation_showMethod_UI_helper | 0.003 | 0.001 | 0.004 | |
| annotation_showText_UI_helper | 0.001 | 0.000 | 0.001 | |
| cpdID-peakPantheRAnnotation-method | 0.051 | 0.000 | 0.050 | |
| cpdMetadata-peakPantheRAnnotation-method | 0.08 | 0.00 | 0.08 | |
| cpdName-peakPantheRAnnotation-method | 0.046 | 0.004 | 0.050 | |
| dataPoints-peakPantheRAnnotation-method | 0.049 | 0.000 | 0.049 | |
| filename-peakPantheRAnnotation-method | 0.04 | 0.00 | 0.04 | |
| filepath-peakPantheRAnnotation-method | 0.044 | 0.000 | 0.045 | |
| initialise_annotation_from_files_UI_helper | 0.012 | 0.000 | 0.012 | |
| isAnnotated-peakPantheRAnnotation-method | 0.055 | 0.000 | 0.055 | |
| load_annotation_from_file_UI_helper | 0.003 | 0.004 | 0.006 | |
| nbCompounds-peakPantheRAnnotation-method | 0.054 | 0.000 | 0.054 | |
| nbSamples-peakPantheRAnnotation-method | 0.051 | 0.000 | 0.051 | |
| outputAnnotationDiagnostic-peakPantheRAnnotation-method | 13.686 | 0.280 | 13.989 | |
| outputAnnotationFeatureMetadata_UI_helper | 0.005 | 0.000 | 0.005 | |
| outputAnnotationParamsCSV-peakPantheRAnnotation-method | 0.021 | 0.000 | 0.020 | |
| outputAnnotationResult-peakPantheRAnnotation-method | 13.360 | 0.276 | 13.637 | |
| outputAnnotationSpectraMetadata_UI_helper | 0.005 | 0.000 | 0.006 | |
| peakFit-peakPantheRAnnotation-method | 0.038 | 0.004 | 0.042 | |
| peakPantheRAnnotation | 0.041 | 0.008 | 0.049 | |
| peakPantheR_ROIStatistics | 19.377 | 0.356 | 19.738 | |
| peakPantheR_loadAnnotationParamsCSV | 0.006 | 0.000 | 0.006 | |
| peakPantheR_parallelAnnotation | 14.180 | 0.207 | 14.388 | |
| peakPantheR_plotEICFit | 0.283 | 0.000 | 0.284 | |
| peakPantheR_plotPeakwidth | 0.475 | 0.012 | 0.488 | |
| peakPantheR_quickEIC | 3.751 | 0.044 | 3.795 | |
| peakPantheR_singleFileSearch | 4.604 | 0.047 | 4.653 | |
| peakPantheR_start_GUI | 0 | 0 | 0 | |
| peakTables-peakPantheRAnnotation-method | 0.037 | 0.004 | 0.042 | |
| resetAnnotation-peakPantheRAnnotation-method | 0.046 | 0.000 | 0.047 | |
| resetFIR-peakPantheRAnnotation-method | 0.004 | 0.000 | 0.005 | |
| retentionTimeCorrection-peakPantheRAnnotation-method | 9.320 | 0.099 | 9.421 | |
| spectraMetadata-peakPantheRAnnotation-method | 0.046 | 0.000 | 0.046 | |
| spectraPaths_and_metadata_UI_helper | 0.002 | 0.000 | 0.003 | |
| spectra_metadata_colourScheme_UI_helper | 0.004 | 0.000 | 0.005 | |
| uROI-peakPantheRAnnotation-method | 0.047 | 0.000 | 0.047 | |
| uROIExist-peakPantheRAnnotation-method | 0.048 | 0.000 | 0.048 | |
| useFIR-peakPantheRAnnotation-method | 0.039 | 0.004 | 0.043 | |
| useUROI-peakPantheRAnnotation-method | 0.045 | 0.000 | 0.045 | |