Package: pRolocGUI Version: 2.14.0 Maintainer: Lisa Breckels MaintainerEmail: lms79 at cam.ac.uk git_url: https://git.bioconductor.org/packages/pRolocGUI git_branch: RELEASE_3_19 git_last_commit: 747fc75 git_last_commit_date: 2024-04-30 10:37:20 -0400 (Tue, 30 Apr 2024)