Package: nullranges Version: 1.10.0 Command: rm -rf nullranges.buildbin-libdir && mkdir nullranges.buildbin-libdir && /Users/biocbuild/BBS/utils/build-universal.sh nullranges_1.10.0.tar.gz /Library/Frameworks/R.framework/Resources/bin/R nullranges.buildbin-libdir StartedAt: 2024-10-17 16:45:10 -0400 (Thu, 17 Oct 2024) EndedAt: 2024-10-17 16:46:44 -0400 (Thu, 17 Oct 2024) EllapsedTime: 94.1 seconds RetCode: 0 Status: OK PackageFile: nullranges_1.10.0.tgz PackageFileSize: 5.016 MiB