Package: nnSVG Version: 1.8.0 Command: /home/biocbuild/R/R-beta-2024-04-15_r86425/bin/R CMD build --keep-empty-dirs --no-resave-data nnSVG StartedAt: 2024-05-09 02:08:45 -0000 (Thu, 09 May 2024) EndedAt: 2024-05-09 02:09:45 -0000 (Thu, 09 May 2024) EllapsedTime: 60.1 seconds RetCode: 1 Status: ERROR PackageFile: None PackageFileSize: NA