Package: netZooR Version: 1.8.0 Command: /Library/Frameworks/R.framework/Resources/bin/R CMD INSTALL netZooR StartedAt: 2024-06-09 17:32:14 -0400 (Sun, 09 Jun 2024) EndedAt: 2024-06-09 17:33:40 -0400 (Sun, 09 Jun 2024) EllapsedTime: 85.5 seconds RetCode: 0 Status: OK