Package: ncdfFlow Version: 2.50.0 Command: rm -rf ncdfFlow.buildbin-libdir && mkdir ncdfFlow.buildbin-libdir && /Users/biocbuild/BBS/utils/build-universal.sh ncdfFlow_2.50.0.tar.gz /Library/Frameworks/R.framework/Resources/bin/R ncdfFlow.buildbin-libdir StartedAt: 2024-10-17 16:43:12 -0400 (Thu, 17 Oct 2024) EndedAt: 2024-10-17 16:43:54 -0400 (Thu, 17 Oct 2024) EllapsedTime: 42.0 seconds RetCode: 0 Status: OK PackageFile: ncdfFlow_2.50.0.tgz PackageFileSize: 2.03 MiB