Package: multtest Version: 2.60.0 Command: rm -rf multtest.buildbin-libdir && mkdir multtest.buildbin-libdir && /Users/biocbuild/BBS/utils/build-universal.sh multtest_2.60.0.tar.gz /Library/Frameworks/R.framework/Resources/bin/R multtest.buildbin-libdir StartedAt: 2024-10-18 19:40:43 -0400 (Fri, 18 Oct 2024) EndedAt: 2024-10-18 19:41:02 -0400 (Fri, 18 Oct 2024) EllapsedTime: 19.4 seconds RetCode: 0 Status: OK PackageFile: multtest_2.60.0.tgz PackageFileSize: 826.2 KiB