Package: msqrob2 Version: 1.12.0 Command: /home/biocbuild/R/R-beta-2024-04-15_r86425/bin/R CMD build --keep-empty-dirs --no-resave-data msqrob2 StartedAt: 2024-05-09 01:58:01 -0000 (Thu, 09 May 2024) EndedAt: 2024-05-09 02:00:39 -0000 (Thu, 09 May 2024) EllapsedTime: 158.2 seconds RetCode: 0 Status: OK PackageFile: msqrob2_1.12.0.tar.gz PackageFileSize: 1.369 MiB