Package: msmsTests Version: 1.42.0 Command: /Library/Frameworks/R.framework/Resources/bin/R CMD INSTALL msmsTests StartedAt: 2024-06-09 16:45:35 -0400 (Sun, 09 Jun 2024) EndedAt: 2024-06-09 16:46:28 -0400 (Sun, 09 Jun 2024) EllapsedTime: 53.2 seconds RetCode: 0 Status: OK