Package: mirIntegrator Version: 1.34.0 Command: /home/biocbuild/R/R-beta-2024-04-15_r86425/bin/R CMD build --keep-empty-dirs --no-resave-data mirIntegrator StartedAt: 2024-05-09 01:42:15 -0000 (Thu, 09 May 2024) EndedAt: 2024-05-09 01:43:39 -0000 (Thu, 09 May 2024) EllapsedTime: 83.1 seconds RetCode: 0 Status: OK PackageFile: mirIntegrator_1.34.0.tar.gz PackageFileSize: 1.798 MiB