Package: microSTASIS Version: 1.4.0 Command: /Library/Frameworks/R.framework/Resources/bin/R CMD INSTALL microSTASIS StartedAt: 2024-06-09 15:15:16 -0400 (Sun, 09 Jun 2024) EndedAt: 2024-06-09 15:15:20 -0400 (Sun, 09 Jun 2024) EllapsedTime: 3.8 seconds RetCode: 0 Status: OK