Package: makecdfenv Version: 1.80.0 Command: rm -rf makecdfenv.buildbin-libdir && mkdir makecdfenv.buildbin-libdir && /Users/biocbuild/BBS/utils/build-universal.sh makecdfenv_1.80.0.tar.gz /Library/Frameworks/R.framework/Resources/bin/R makecdfenv.buildbin-libdir StartedAt: 2024-10-18 19:13:45 -0400 (Fri, 18 Oct 2024) EndedAt: 2024-10-18 19:14:01 -0400 (Fri, 18 Oct 2024) EllapsedTime: 15.6 seconds RetCode: 0 Status: OK PackageFile: makecdfenv_1.80.0.tgz PackageFileSize: 3.424 MiB