Package: lute Version: 1.0.0 Command: rm -rf lute.buildbin-libdir && mkdir lute.buildbin-libdir && /Users/biocbuild/BBS/utils/build-universal.sh lute_1.0.0.tar.gz /Library/Frameworks/R.framework/Resources/bin/R lute.buildbin-libdir StartedAt: 2024-06-11 11:50:59 -0400 (Tue, 11 Jun 2024) EndedAt: 2024-06-11 11:52:00 -0400 (Tue, 11 Jun 2024) EllapsedTime: 61.2 seconds RetCode: 0 Status: OK PackageFile: lute_1.0.0.tgz PackageFileSize: 2.085 MiB