Package: limmaGUI Version: 1.80.0 Command: /home/biocbuild/bbs-3.19-bioc/R/bin/R CMD INSTALL limmaGUI StartedAt: 2024-10-16 15:52:10 -0400 (Wed, 16 Oct 2024) EndedAt: 2024-10-16 15:52:26 -0400 (Wed, 16 Oct 2024) EllapsedTime: 16.1 seconds RetCode: 0 Status: OK