Package: interactiveDisplay Version: 1.42.0 Command: rm -rf interactiveDisplay.buildbin-libdir && mkdir interactiveDisplay.buildbin-libdir && /Users/biocbuild/BBS/utils/build-universal.sh interactiveDisplay_1.42.0.tar.gz /Library/Frameworks/R.framework/Resources/bin/R interactiveDisplay.buildbin-libdir StartedAt: 2024-10-17 16:24:08 -0400 (Thu, 17 Oct 2024) EndedAt: 2024-10-17 16:25:11 -0400 (Thu, 17 Oct 2024) EllapsedTime: 62.6 seconds RetCode: 0 Status: OK PackageFile: interactiveDisplay_1.42.0.tgz PackageFileSize: 2.479 MiB