Package: iClusterPlus Version: 1.40.0 Command: chmod a+r iClusterPlus -R && E:\biocbuild\bbs-3.19-bioc\R\bin\R.exe CMD build --keep-empty-dirs --no-resave-data iClusterPlus StartedAt: 2024-10-16 19:45:37 -0400 (Wed, 16 Oct 2024) EndedAt: 2024-10-16 19:46:11 -0400 (Wed, 16 Oct 2024) EllapsedTime: 34.2 seconds RetCode: 0 Status: OK PackageFile: iClusterPlus_1.40.0.tar.gz PackageFileSize: 20.6 MiB