Package: iClusterPlus Version: 1.40.0 Command: rm -rf iClusterPlus.buildbin-libdir && mkdir iClusterPlus.buildbin-libdir && E:\biocbuild\bbs-3.19-bioc\R\bin\R.exe CMD INSTALL --build --library=iClusterPlus.buildbin-libdir iClusterPlus_1.40.0.tar.gz StartedAt: 2024-10-17 07:58:40 -0400 (Thu, 17 Oct 2024) EndedAt: 2024-10-17 07:59:50 -0400 (Thu, 17 Oct 2024) EllapsedTime: 69.6 seconds RetCode: 0 Status: OK PackageFile: iClusterPlus_1.40.0.zip PackageFileSize: 16.18 MiB