Package: iClusterPlus Version: 1.40.0 Command: rm -rf iClusterPlus.buildbin-libdir && mkdir iClusterPlus.buildbin-libdir && F:\biocbuild\bbs-3.19-bioc\R\bin\R.exe CMD INSTALL --build --library=iClusterPlus.buildbin-libdir iClusterPlus_1.40.0.tar.gz StartedAt: 2024-06-27 08:22:11 -0400 (Thu, 27 Jun 2024) EndedAt: 2024-06-27 08:22:59 -0400 (Thu, 27 Jun 2024) EllapsedTime: 48.1 seconds RetCode: 0 Status: OK PackageFile: iClusterPlus_1.40.0.zip PackageFileSize: 16.18 MiB