Package: goTools Version: 1.78.0 Command: rm -rf goTools.buildbin-libdir && mkdir goTools.buildbin-libdir && /Users/biocbuild/BBS/utils/build-universal.sh goTools_1.78.0.tar.gz /Library/Frameworks/R.framework/Resources/bin/R goTools.buildbin-libdir StartedAt: 2024-10-18 18:48:22 -0400 (Fri, 18 Oct 2024) EndedAt: 2024-10-18 18:48:40 -0400 (Fri, 18 Oct 2024) EllapsedTime: 18.3 seconds RetCode: 0 Status: OK PackageFile: goTools_1.78.0.tgz PackageFileSize: 261.2 KiB