Package: geneplotter Version: 1.82.0 Command: /Library/Frameworks/R.framework/Resources/bin/R CMD INSTALL geneplotter StartedAt: 2024-06-09 15:34:41 -0400 (Sun, 09 Jun 2024) EndedAt: 2024-06-09 15:35:02 -0400 (Sun, 09 Jun 2024) EllapsedTime: 21.1 seconds RetCode: 0 Status: OK