Package: flowWorkspace Version: 4.16.0 Command: rm -rf flowWorkspace.buildbin-libdir && mkdir flowWorkspace.buildbin-libdir && /Users/biocbuild/BBS/utils/build-universal.sh flowWorkspace_4.16.0.tar.gz /Library/Frameworks/R.framework/Resources/bin/R flowWorkspace.buildbin-libdir StartedAt: 2024-10-17 16:11:12 -0400 (Thu, 17 Oct 2024) EndedAt: 2024-10-17 16:16:30 -0400 (Thu, 17 Oct 2024) EllapsedTime: 318.6 seconds RetCode: 0 Status: OK PackageFile: flowWorkspace_4.16.0.tgz PackageFileSize: 6.239 MiB