Package: flowDensity Version: 1.38.0 Maintainer: Mehrnoush Malek MaintainerEmail: mehrmalek at gmail.com git_url: https://git.bioconductor.org/packages/flowDensity git_branch: RELEASE_3_19 git_last_commit: b5e6512 git_last_commit_date: 2024-04-30 10:37:13 -0400 (Tue, 30 Apr 2024)