Package: flowCyBar Version: 1.40.0 Command: /Library/Frameworks/R.framework/Resources/bin/R CMD build --keep-empty-dirs --no-resave-data flowCyBar StartedAt: 2024-06-09 16:40:35 -0400 (Sun, 09 Jun 2024) EndedAt: 2024-06-09 16:40:56 -0400 (Sun, 09 Jun 2024) EllapsedTime: 21.5 seconds RetCode: 0 Status: OK PackageFile: flowCyBar_1.40.0.tar.gz PackageFileSize: 507.5 KiB