Package: flowCyBar Version: 1.40.0 Command: /home/biocbuild/R/R-beta-2024-04-15_r86425/bin/R CMD build --keep-empty-dirs --no-resave-data flowCyBar StartedAt: 2024-05-09 00:20:14 -0000 (Thu, 09 May 2024) EndedAt: 2024-05-09 00:20:44 -0000 (Thu, 09 May 2024) EllapsedTime: 30.0 seconds RetCode: 0 Status: OK PackageFile: flowCyBar_1.40.0.tar.gz PackageFileSize: 498.7 KiB