Package: factDesign Version: 1.80.0 Command: /Library/Frameworks/R.framework/Resources/bin/R CMD build --keep-empty-dirs --no-resave-data factDesign StartedAt: 2024-06-09 21:28:18 -0400 (Sun, 09 Jun 2024) EndedAt: 2024-06-09 21:28:39 -0400 (Sun, 09 Jun 2024) EllapsedTime: 20.8 seconds RetCode: 0 Status: OK PackageFile: factDesign_1.80.0.tar.gz PackageFileSize: 217 KiB