Package: epivizrChart Version: 1.26.0 Command: /Library/Frameworks/R.framework/Resources/bin/R CMD build --keep-empty-dirs --no-resave-data epivizrChart StartedAt: 2024-06-09 21:21:36 -0400 (Sun, 09 Jun 2024) EndedAt: 2024-06-09 21:24:40 -0400 (Sun, 09 Jun 2024) EllapsedTime: 183.2 seconds RetCode: 0 Status: OK PackageFile: epivizrChart_1.26.0.tar.gz PackageFileSize: 5.303 MiB