Package: cytolib Version: 2.16.0 Command: rm -rf cytolib.buildbin-libdir && mkdir cytolib.buildbin-libdir && /Users/biocbuild/BBS/utils/build-universal.sh cytolib_2.16.0.tar.gz /Library/Frameworks/R.framework/Resources/bin/R cytolib.buildbin-libdir StartedAt: 2024-06-10 00:13:57 -0400 (Mon, 10 Jun 2024) EndedAt: 2024-06-10 00:16:47 -0400 (Mon, 10 Jun 2024) EllapsedTime: 170.3 seconds RetCode: 0 Status: OK PackageFile: cytolib_2.16.0.tgz PackageFileSize: 10.01 MiB