Package: crisprBase Version: 1.8.0 Command: /Library/Frameworks/R.framework/Resources/bin/R CMD build --keep-empty-dirs --no-resave-data crisprBase StartedAt: 2024-10-16 22:21:07 -0400 (Wed, 16 Oct 2024) EndedAt: 2024-10-16 22:21:40 -0400 (Wed, 16 Oct 2024) EllapsedTime: 32.8 seconds RetCode: 0 Status: OK PackageFile: crisprBase_1.8.0.tar.gz PackageFileSize: 1.736 MiB