Package: coMethDMR Version: 1.8.0 Command: /home/biocbuild/R/R-beta-2024-04-15_r86425/bin/R CMD build --keep-empty-dirs --no-resave-data coMethDMR StartedAt: 2024-05-08 23:29:07 -0000 (Wed, 08 May 2024) EndedAt: 2024-05-08 23:34:59 -0000 (Wed, 08 May 2024) EllapsedTime: 352.5 seconds RetCode: 0 Status: OK PackageFile: coMethDMR_1.8.0.tar.gz PackageFileSize: 3.117 MiB