Package: clustComp Version: 1.32.0 Command: /home/biocbuild/R/R-beta-2024-04-15_r86425/bin/R CMD check --install=check:clustComp.install-out.txt --library=/home/biocbuild/R/R-beta-2024-04-15_r86425/site-library --no-vignettes --timings clustComp_1.32.0.tar.gz StartedAt: 2024-05-09 05:55:43 -0000 (Thu, 09 May 2024) EndedAt: 2024-05-09 05:56:04 -0000 (Thu, 09 May 2024) EllapsedTime: 21.0 seconds RetCode: 0 Status: OK CheckDir: clustComp.Rcheck Warnings: 0