Package: cliProfiler Version: 1.10.0 Command: rm -rf cliProfiler.buildbin-libdir && mkdir cliProfiler.buildbin-libdir && F:\biocbuild\bbs-3.19-bioc\R\bin\R.exe CMD INSTALL --build --library=cliProfiler.buildbin-libdir cliProfiler_1.10.0.tar.gz StartedAt: 2024-06-27 08:00:10 -0400 (Thu, 27 Jun 2024) EndedAt: 2024-06-27 08:01:00 -0400 (Thu, 27 Jun 2024) EllapsedTime: 49.4 seconds RetCode: 0 Status: OK PackageFile: cliProfiler_1.10.0.zip PackageFileSize: 692.2 KiB