Package: chimeraviz Version: 1.30.0 Command: /home/biocbuild/bbs-3.19-bioc/R/bin/R CMD INSTALL chimeraviz StartedAt: 2024-10-16 16:22:04 -0400 (Wed, 16 Oct 2024) EndedAt: 2024-10-16 16:22:57 -0400 (Wed, 16 Oct 2024) EllapsedTime: 53.3 seconds RetCode: 0 Status: OK