Package: categoryCompare Version: 1.48.0 Command: /home/biocbuild/R/R-beta-2024-04-15_r86425/bin/R CMD build --keep-empty-dirs --no-resave-data categoryCompare StartedAt: 2024-05-08 23:04:45 -0000 (Wed, 08 May 2024) EndedAt: 2024-05-08 23:08:51 -0000 (Wed, 08 May 2024) EllapsedTime: 245.3 seconds RetCode: 0 Status: OK PackageFile: categoryCompare_1.48.0.tar.gz PackageFileSize: 3.185 MiB