Package: canceR Version: 1.38.0 Command: /Library/Frameworks/R.framework/Resources/bin/R CMD INSTALL canceR StartedAt: 2024-06-09 17:28:07 -0400 (Sun, 09 Jun 2024) EndedAt: 2024-06-09 17:48:18 -0400 (Sun, 09 Jun 2024) EllapsedTime: 1211.1 seconds RetCode: 0 Status: OK