Package: biomaRt Version: 2.60.1 Command: /home/biocbuild/bbs-3.19-bioc/R/bin/R CMD build --keep-empty-dirs --no-resave-data biomaRt StartedAt: 2024-10-16 17:16:28 -0400 (Wed, 16 Oct 2024) EndedAt: 2024-10-16 17:18:19 -0400 (Wed, 16 Oct 2024) EllapsedTime: 111.2 seconds RetCode: 0 Status: OK PackageFile: biomaRt_2.60.1.tar.gz PackageFileSize: 841.9 KiB