Package: biodbExpasy Version: 1.8.0 Command: /home/biocbuild/R/R-beta-2024-04-15_r86425/bin/R CMD build --keep-empty-dirs --no-resave-data biodbExpasy StartedAt: 2024-05-08 22:46:26 -0000 (Wed, 08 May 2024) EndedAt: 2024-05-08 22:46:44 -0000 (Wed, 08 May 2024) EllapsedTime: 18.0 seconds RetCode: 0 Status: OK PackageFile: biodbExpasy_1.8.0.tar.gz PackageFileSize: 368.8 KiB