Package: basilisk Version: 1.16.0 Command: chmod a+r basilisk -R && E:\biocbuild\bbs-3.19-bioc\R\bin\R.exe CMD build --keep-empty-dirs --no-resave-data basilisk StartedAt: 2024-10-16 17:40:41 -0400 (Wed, 16 Oct 2024) EndedAt: 2024-10-16 17:41:03 -0400 (Wed, 16 Oct 2024) EllapsedTime: 22.0 seconds RetCode: 0 Status: OK PackageFile: basilisk_1.16.0.tar.gz PackageFileSize: 261.8 KiB