Package: apeglm Version: 1.26.1 Command: rm -rf apeglm.buildbin-libdir && mkdir apeglm.buildbin-libdir && /Users/biocbuild/BBS/utils/build-universal.sh apeglm_1.26.1.tar.gz /Library/Frameworks/R.framework/Resources/bin/R apeglm.buildbin-libdir StartedAt: 2024-10-18 17:17:46 -0400 (Fri, 18 Oct 2024) EndedAt: 2024-10-18 17:18:58 -0400 (Fri, 18 Oct 2024) EllapsedTime: 71.7 seconds RetCode: 0 Status: OK PackageFile: apeglm_1.26.1.tgz PackageFileSize: 1.389 MiB